BEGIN:VCALENDAR
VERSION:2.0
CALSCALE:GREGORIAN
PRODID:adamgibbons/ics
METHOD:PUBLISH
X-PUBLISHED-TTL:PT1H
BEGIN:VEVENT
UID:375@hacker.convoca.la
SUMMARY:Hacklab Iruñerria
DTSTAMP:20260420T002259Z
DTSTART:20260421T170000Z
DTEND:20260421T190000Z
DESCRIPTION:Desde el Hacklab de Iruñerria nos juntaremos cada 15 dias en El
	 Hadji gunea de\nla rotxapea.\n\nUn encuentro para cacharrear y aprender c
	olectivamente.
URL:https://hacker.convoca.la/event/hacklab-irunerria-16
LOCATION:El Hadji gunea - Artikala Kalea 16\, (errotxapea) 31014 Pamplona\,
	 Navarra
STATUS:CONFIRMED
CATEGORIES:hacklab
X-ALT-DESC;FMTTYPE=text/html:<p>Desde el Hacklab de Iruñerria nos juntaremo
	s cada 15 dias en El Hadji gunea de la rotxapea. </p><p>Un encuentro para 
	cacharrear y aprender colectivamente.</p>
END:VEVENT
BEGIN:VEVENT
UID:380@hacker.convoca.la
SUMMARY:Hacklabbo
DTSTAMP:20260420T002259Z
DTSTART:20260422T180000Z
DTEND:20260422T215500Z
DESCRIPTION:https://hacklabbo.indivia.net/ [https://hacklabbo.indivia.net/]
URL:https://hacker.convoca.la/event/hacklabbo-68
LOCATION:Vag61 - Via Paolo Fabbri 110
STATUS:CONFIRMED
CATEGORIES:hacking,hacklab,hacktivism,italia
X-ALT-DESC;FMTTYPE=text/html:<p><a target="_blank" href="https://hacklabbo.
	indivia.net/">https://hacklabbo.indivia.net/</a></p>
END:VEVENT
BEGIN:VEVENT
UID:381@hacker.convoca.la
SUMMARY:Hacklabkelo espazioa
DTSTAMP:20260420T002259Z
DTSTART:20260422T180000Z
DTEND:20260422T190000Z
DESCRIPTION:Hacklabkelo espazioa teknologiarekin\, softwarearekin\, hardwar
	e librearekin\,\nsistema eragileekin\, sareekin\, birtualizazioarekin\, DI
	Y\, etab. erlazionatutako\nguztiarekin esperimentatzeko\n\nEspacio Hacklab
	kelo para experimentar con todo lo relacionado con la tecnologia\,\nsoftwa
	re y hardware libre\, sistemas operativos\, redes\, virtualización\, DIY\,
	 etc.
URL:https://hacker.convoca.la/event/hacklabkelo-espazioa-136
LOCATION:La Kelo Gaztetxea - Mahastiak / Las Viñas 63\, 48980 Santurtzi
STATUS:CONFIRMED
CATEGORIES:gaztetxea,hacklab
X-ALT-DESC;FMTTYPE=text/html:<p>Hacklabkelo espazioa teknologiarekin, softw
	arearekin, hardware librearekin, sistema eragileekin, sareekin, birtualiza
	zioarekin, DIY, etab. erlazionatutako guztiarekin esperimentatzeko</p><p>E
	spacio Hacklabkelo para experimentar con todo lo relacionado con la tecnol
	ogia, software y hardware libre, sistemas operativos, redes, virtualizació
	n, DIY, etc.</p>
END:VEVENT
END:VCALENDAR
